BEGIN:VCALENDAR
VERSION:2.0
PRODID:ics.py - http://git.io/lLljaA
BEGIN:VEVENT
CATEGORIES:Online
DESCRIPTION:Please join us to hear about updates from the FOSS United Foundation and to discuss anything and everything FOSS and Digital Commons in India. The call is mostly unscripted and open to questions from the audience\, e.g.\, how can people volunteer for FOSS United events\, how does FOSS United Foundation evaluate grant requests\, etc.\n\nLivestream: https://youtube.com/live/g6NPPOeOOfg
DTEND:20260518T143000Z
LOCATION:Virtual\nhttps://meet.fossunited.org/standing-link-community-calls
ORGANIZER;CN=FOSS United Organisation Community:mailto:FOSS United Organisation Community
DTSTART:20260518T133000Z
SUMMARY:Open Community Call
UID:74a7b06d-ec63-4b00-8720-b34a5961ae14@74a7.org
URL:https://fossunited.org/c/foss-united-organisation/2026-may-2
END:VEVENT
BEGIN:VEVENT
CATEGORIES:Online
DESCRIPTION:Please join us to hear about updates from the FOSS United Foundation and to discuss anything and everything FOSS and Digital Commons in India. The call is mostly unscripted and open to questions from the audience\, e.g.\, how can people volunteer for FOSS United events\, how does FOSS United Foundation evaluate grant requests\, etc.\n\nLivestream: https://youtube.com/live/5gd4_ewkSfc
DTEND:20260504T143000Z
LOCATION:Virtual\nhttps://meet.fossunited.org/standing-link-community-calls
ORGANIZER;CN=FOSS United Organisation Community:mailto:FOSS United Organisation Community
DTSTART:20260504T133000Z
SUMMARY:Open Community Call
UID:a008fb87-fb1d-4966-abea-97505aab9c64@a008.org
URL:https://fossunited.org/c/foss-united-organisation/2024-may-1
END:VEVENT
END:VCALENDAR