BEGIN:VCALENDAR
VERSION:2.0
PRODID:ics.py - http://git.io/lLljaA
BEGIN:VEVENT
CATEGORIES:Meet Up
DESCRIPTION:Date: 26 April\, 2026\, SundayTime: 2pm - 5pmVenue: Samagata Foundation\, Church Street\, Bengaluru
DTEND:20260426T113000Z
LOCATION:Samagata Foundation\, Church Street\nhttps://maps.app.goo.gl/vxwP2sznFankkNydA
ORGANIZER;CN=BENGALURU Community:mailto:BENGALURU Community
DTSTART:20260426T083000Z
SUMMARY:FOSSUnited Bengaluru April Meetup
UID:b5e59561-ab3c-430b-93bd-05c801c5af83@b5e5.org
URL:https://fossunited.org/c/bengaluru/apr-2026
END:VEVENT
END:VCALENDAR